BEGIN:VCALENDAR
VERSION:2.0
PRODID:-//The Pinner Association - ECPv6.15.20//NONSGML v1.0//EN
CALSCALE:GREGORIAN
METHOD:PUBLISH
X-ORIGINAL-URL:https://www.pinnerassociation.co.uk
X-WR-CALDESC:Events for The Pinner Association
REFRESH-INTERVAL;VALUE=DURATION:PT1H
X-Robots-Tag:noindex
X-PUBLISHED-TTL:PT1H
BEGIN:VTIMEZONE
TZID:Europe/London
BEGIN:DAYLIGHT
TZOFFSETFROM:+0000
TZOFFSETTO:+0100
TZNAME:BST
DTSTART:20240331T010000
END:DAYLIGHT
BEGIN:STANDARD
TZOFFSETFROM:+0100
TZOFFSETTO:+0000
TZNAME:GMT
DTSTART:20241027T010000
END:STANDARD
BEGIN:DAYLIGHT
TZOFFSETFROM:+0000
TZOFFSETTO:+0100
TZNAME:BST
DTSTART:20250330T010000
END:DAYLIGHT
BEGIN:STANDARD
TZOFFSETFROM:+0100
TZOFFSETTO:+0000
TZNAME:GMT
DTSTART:20251026T010000
END:STANDARD
BEGIN:DAYLIGHT
TZOFFSETFROM:+0000
TZOFFSETTO:+0100
TZNAME:BST
DTSTART:20260329T010000
END:DAYLIGHT
BEGIN:STANDARD
TZOFFSETFROM:+0100
TZOFFSETTO:+0000
TZNAME:GMT
DTSTART:20261025T010000
END:STANDARD
END:VTIMEZONE
BEGIN:VEVENT
DTSTART;TZID=Europe/London:20251004T093000
DTEND;TZID=Europe/London:20251004T123000
DTSTAMP:20260419T193227
CREATED:20250930T172848Z
LAST-MODIFIED:20250930T172848Z
UID:49117-1759570200-1759581000@www.pinnerassociation.co.uk
SUMMARY:Harrow Gateway Table Top Sale
DESCRIPTION:Share this:\n				Share on X (Opens in new window)\n				X\n			\n				Share on Facebook (Opens in new window)\n				Facebook\n			\n				Share on WhatsApp (Opens in new window)\n				WhatsApp\n			\n				Email a link to a friend (Opens in new window)\n				Email
URL:https://www.pinnerassociation.co.uk/event/harrow-gateway-table-top-sale-13/
LOCATION:Gateway House\, North Harrow Car Park\, Pinner Road\, Middlesex\, HA2 7TA\, United Kingdom
CATEGORIES:Charitable Causes,Craft,Family Friendly
END:VEVENT
BEGIN:VEVENT
DTSTART;TZID=Europe/London:20251011T110000
DTEND;TZID=Europe/London:20251011T160000
DTSTAMP:20260419T193227
CREATED:20250922T133812Z
LAST-MODIFIED:20250922T135434Z
UID:49092-1760180400-1760198400@www.pinnerassociation.co.uk
SUMMARY:Heath Robinson Museum - Diwali Celebraton Day
DESCRIPTION:Diwali Celebration Day\n\n\n11 October 2025 \n11:00 am – 1:00 pm or  2:00 pm – 4:00 pm \n\n£7 per child (accompanying adult goes free) \n\n\nBooking Information\nBook online or tickets are available in the Museum during normal opening hours (Thurs-Sun 11-4) \nBook Tickets \n\nShare this:\n				Share on X (Opens in new window)\n				X\n			\n				Share on Facebook (Opens in new window)\n				Facebook\n			\n				Share on WhatsApp (Opens in new window)\n				WhatsApp\n			\n				Email a link to a friend (Opens in new window)\n				Email
URL:https://www.pinnerassociation.co.uk/event/heath-robinson-museum-diwali-celebraton-day/
LOCATION:Heath Robinson Museum\, 50 West End Lane\, Pinner\, HA5 1AE\, United Kingdom
CATEGORIES:Craft,Culture,Family Friendly
END:VEVENT
BEGIN:VEVENT
DTSTART;TZID=Europe/London:20251030T100000
DTEND;TZID=Europe/London:20251030T113000
DTSTAMP:20260419T193227
CREATED:20250922T134339Z
LAST-MODIFIED:20250922T134339Z
UID:49094-1761818400-1761823800@www.pinnerassociation.co.uk
SUMMARY:Heath Robinson Museum - Halloween Half Term Workshop – Junior
DESCRIPTION:Great seasonal fun making your own spooky hat that you can wear on Halloween. \nHalloween Half Term Workshop – Junior\n\n30 October 2025   10:00 am – 11:30 am\n\n£10 per child (accompanying adult goes free)\n\nAge range:   5-8yrs accompanied by adult (who is free entry) \nBooking Information\nBook online or tickets are available in the Museum during normal opening hours (Thurs-Sun 11-4)\nBook Tickets\n  \nShare this:\n				Share on X (Opens in new window)\n				X\n			\n				Share on Facebook (Opens in new window)\n				Facebook\n			\n				Share on WhatsApp (Opens in new window)\n				WhatsApp\n			\n				Email a link to a friend (Opens in new window)\n				Email
URL:https://www.pinnerassociation.co.uk/event/heath-robinson-museum-halloween-half-term-workshop-junior/
LOCATION:Heath Robinson Museum\, 50 West End Lane\, Pinner\, HA5 1AE\, United Kingdom
CATEGORIES:Craft,Family Friendly
END:VEVENT
BEGIN:VEVENT
DTSTART;TZID=Europe/London:20251031T130000
DTEND;TZID=Europe/London:20251031T150000
DTSTAMP:20260419T193227
CREATED:20250922T141042Z
LAST-MODIFIED:20250922T141042Z
UID:49104-1761915600-1761922800@www.pinnerassociation.co.uk
SUMMARY:Heath Robinson Museum - Halloween Half Term Workshop – Senior
DESCRIPTION:Great seasonal fun making your own wicked gargoyle decoration out of clay just in time for Halloween. \nHalloween Half Term Workshop – Senior\n\n31 October 2025   1:00 pm – 3:00 pm\nAge range: 8-16yrs\n£15 per child\n\nBooking Information\nBook online or tickets are available in the Museum during normal opening hours (Thurs-Sun 11-4)\n\nBook Tickets\n  \nShare this:\n				Share on X (Opens in new window)\n				X\n			\n				Share on Facebook (Opens in new window)\n				Facebook\n			\n				Share on WhatsApp (Opens in new window)\n				WhatsApp\n			\n				Email a link to a friend (Opens in new window)\n				Email
URL:https://www.pinnerassociation.co.uk/event/heath-robinson-museum-halloween-half-term-workshop-senior/
LOCATION:Heath Robinson Museum\, 50 West End Lane\, Pinner\, HA5 1AE\, United Kingdom
CATEGORIES:Craft,Family Friendly
END:VEVENT
END:VCALENDAR