BEGIN:VCALENDAR
VERSION:2.0
PRODID:-//The Pinner Association - ECPv6.15.20//NONSGML v1.0//EN
CALSCALE:GREGORIAN
METHOD:PUBLISH
X-ORIGINAL-URL:https://www.pinnerassociation.co.uk
X-WR-CALDESC:Events for The Pinner Association
REFRESH-INTERVAL;VALUE=DURATION:PT1H
X-Robots-Tag:noindex
X-PUBLISHED-TTL:PT1H
BEGIN:VTIMEZONE
TZID:Europe/London
BEGIN:DAYLIGHT
TZOFFSETFROM:+0000
TZOFFSETTO:+0100
TZNAME:BST
DTSTART:20240331T010000
END:DAYLIGHT
BEGIN:STANDARD
TZOFFSETFROM:+0100
TZOFFSETTO:+0000
TZNAME:GMT
DTSTART:20241027T010000
END:STANDARD
BEGIN:DAYLIGHT
TZOFFSETFROM:+0000
TZOFFSETTO:+0100
TZNAME:BST
DTSTART:20250330T010000
END:DAYLIGHT
BEGIN:STANDARD
TZOFFSETFROM:+0100
TZOFFSETTO:+0000
TZNAME:GMT
DTSTART:20251026T010000
END:STANDARD
BEGIN:DAYLIGHT
TZOFFSETFROM:+0000
TZOFFSETTO:+0100
TZNAME:BST
DTSTART:20260329T010000
END:DAYLIGHT
BEGIN:STANDARD
TZOFFSETFROM:+0100
TZOFFSETTO:+0000
TZNAME:GMT
DTSTART:20261025T010000
END:STANDARD
END:VTIMEZONE
BEGIN:VEVENT
DTSTART;TZID=Europe/London:20250410T200000
DTEND;TZID=Europe/London:20250410T220000
DTSTAMP:20260419T160510
CREATED:20241211T132919Z
LAST-MODIFIED:20250322T091206Z
UID:47962-1744315200-1744322400@www.pinnerassociation.co.uk
SUMMARY:Horatia in Pinner By Lily Styles
DESCRIPTION:The talk will explore how Lord Nelson’s only daughter chose to end her days in obscurity in Pinner.  The talk will be presented by Lily Styles\, Horatia’s 3rd great-granddaughter and founder of the Emma Hamilton Society. \n  \nVisitor’s welcome\, suggested donation £3. \nShare this:\n				Share on X (Opens in new window)\n				X\n			\n				Share on Facebook (Opens in new window)\n				Facebook\n			\n				Share on WhatsApp (Opens in new window)\n				WhatsApp\n			\n				Email a link to a friend (Opens in new window)\n				Email
URL:https://www.pinnerassociation.co.uk/event/horatia-in-pinner-by-lily-styles/
LOCATION:Pinner High School\, Beaulieu Drive\, Pinner\, HA5 1NB\, United Kingdom
CATEGORIES:Clubs,Culture
ORGANIZER;CN="Pinner Local History Society":MAILTO:enquiries@pinnerlhs.org.uk 
END:VEVENT
END:VCALENDAR