BEGIN:VCALENDAR
VERSION:2.0
PRODID:-//The Pinner Association - ECPv6.15.20//NONSGML v1.0//EN
CALSCALE:GREGORIAN
METHOD:PUBLISH
X-ORIGINAL-URL:https://www.pinnerassociation.co.uk
X-WR-CALDESC:Events for The Pinner Association
REFRESH-INTERVAL;VALUE=DURATION:PT1H
X-Robots-Tag:noindex
X-PUBLISHED-TTL:PT1H
BEGIN:VTIMEZONE
TZID:Europe/London
BEGIN:DAYLIGHT
TZOFFSETFROM:+0000
TZOFFSETTO:+0100
TZNAME:BST
DTSTART:20240331T010000
END:DAYLIGHT
BEGIN:STANDARD
TZOFFSETFROM:+0100
TZOFFSETTO:+0000
TZNAME:GMT
DTSTART:20241027T010000
END:STANDARD
BEGIN:DAYLIGHT
TZOFFSETFROM:+0000
TZOFFSETTO:+0100
TZNAME:BST
DTSTART:20250330T010000
END:DAYLIGHT
BEGIN:STANDARD
TZOFFSETFROM:+0100
TZOFFSETTO:+0000
TZNAME:GMT
DTSTART:20251026T010000
END:STANDARD
BEGIN:DAYLIGHT
TZOFFSETFROM:+0000
TZOFFSETTO:+0100
TZNAME:BST
DTSTART:20260329T010000
END:DAYLIGHT
BEGIN:STANDARD
TZOFFSETFROM:+0100
TZOFFSETTO:+0000
TZNAME:GMT
DTSTART:20261025T010000
END:STANDARD
END:VTIMEZONE
BEGIN:VEVENT
DTSTART;TZID=Europe/London:20250306T200000
DTEND;TZID=Europe/London:20250306T220000
DTSTAMP:20260419T143517
CREATED:20241211T133540Z
LAST-MODIFIED:20241211T133540Z
UID:47970-1741291200-1741298400@www.pinnerassociation.co.uk
SUMMARY:Local Road Transport Through the Ages by the PLHS Research Group
DESCRIPTION:The Pinner Local History Society Research Group will present research into the history of road transport in Pinner and the surrounding areas.  It will include stagecoaches\, horse and motor buses\, commercial haulage and private vehicles. \n  \nVisitors welcome\, suggested donation £3 \nShare this:\n				Share on X (Opens in new window)\n				X\n			\n				Share on Facebook (Opens in new window)\n				Facebook\n			\n				Share on WhatsApp (Opens in new window)\n				WhatsApp\n			\n				Email a link to a friend (Opens in new window)\n				Email
URL:https://www.pinnerassociation.co.uk/event/local-road-transport-through-the-ages-by-the-plhs-research-group/
LOCATION:Pinner Village Hall\, Chapel Lane\, Pinner\, Middlesex\, HA5 1AA\, United Kingdom
CATEGORIES:Clubs,Culture
ORGANIZER;CN="Pinner Local History Society":MAILTO:enquiries@pinnerlhs.org.uk 
END:VEVENT
END:VCALENDAR