BEGIN:VCALENDAR
VERSION:2.0
PRODID:-//The Pinner Association - ECPv6.15.20//NONSGML v1.0//EN
CALSCALE:GREGORIAN
METHOD:PUBLISH
X-ORIGINAL-URL:https://www.pinnerassociation.co.uk
X-WR-CALDESC:Events for The Pinner Association
REFRESH-INTERVAL;VALUE=DURATION:PT1H
X-Robots-Tag:noindex
X-PUBLISHED-TTL:PT1H
BEGIN:VTIMEZONE
TZID:Europe/London
BEGIN:DAYLIGHT
TZOFFSETFROM:+0000
TZOFFSETTO:+0100
TZNAME:BST
DTSTART:20240331T010000
END:DAYLIGHT
BEGIN:STANDARD
TZOFFSETFROM:+0100
TZOFFSETTO:+0000
TZNAME:GMT
DTSTART:20241027T010000
END:STANDARD
BEGIN:DAYLIGHT
TZOFFSETFROM:+0000
TZOFFSETTO:+0100
TZNAME:BST
DTSTART:20250330T010000
END:DAYLIGHT
BEGIN:STANDARD
TZOFFSETFROM:+0100
TZOFFSETTO:+0000
TZNAME:GMT
DTSTART:20251026T010000
END:STANDARD
BEGIN:DAYLIGHT
TZOFFSETFROM:+0000
TZOFFSETTO:+0100
TZNAME:BST
DTSTART:20260329T010000
END:DAYLIGHT
BEGIN:STANDARD
TZOFFSETFROM:+0100
TZOFFSETTO:+0000
TZNAME:GMT
DTSTART:20261025T010000
END:STANDARD
END:VTIMEZONE
BEGIN:VEVENT
DTSTART;VALUE=DATE:20250528
DTEND;VALUE=DATE:20250529
DTSTAMP:20260421T210509
CREATED:20250418T082208Z
LAST-MODIFIED:20250418T082815Z
UID:48426-1748390400-1748476799@www.pinnerassociation.co.uk
SUMMARY:Pinner Fair 2025
DESCRIPTION:Assuming that Pinner Fair occurs this year\, the following road closures and bus diversions should be in place; this is from about 15:00 on 27 May until about 8:00 on 29 May; the following buses will be diverted down West End Lane. \nH11\, H12 & H13. \nThe 183 will start and terminate at near Pinner Library. \nVehicle traffic restrictions will also apply see below: \nWe are assuming that the following roads will be closed or have restricted access: \nNo access to vehicles \n\nHigh Street\nBridge Street\n\nRestricted Access \n\nLove Lane\nWaxwell Lane\nElm Park Road\nMarsh Road\nChapel Lane\nStation Approach\nPaines Lane\nChurch Lane\nGrange Gardens\nCecil Park\n\nIf you are going to the fair\, I would suggest that you use public transport or walk as parking will be restricted in the area. I haven’t been able to find out which car parks will be available. \nIt is assumed that Sainsbury’s will also be closed \nChapel Lane & Station Park Parks will be closed. \nShare this:\n				Share on X (Opens in new window)\n				X\n			\n				Share on Facebook (Opens in new window)\n				Facebook\n			\n				Share on WhatsApp (Opens in new window)\n				WhatsApp\n			\n				Email a link to a friend (Opens in new window)\n				Email
URL:https://www.pinnerassociation.co.uk/event/pinner-fair-2025/
LOCATION:Pinner
END:VEVENT
END:VCALENDAR