BEGIN:VCALENDAR
VERSION:2.0
PRODID:-//The Pinner Association - ECPv6.15.20//NONSGML v1.0//EN
CALSCALE:GREGORIAN
METHOD:PUBLISH
X-WR-CALNAME:The Pinner Association
X-ORIGINAL-URL:https://www.pinnerassociation.co.uk
X-WR-CALDESC:Events for The Pinner Association
REFRESH-INTERVAL;VALUE=DURATION:PT1H
X-Robots-Tag:noindex
X-PUBLISHED-TTL:PT1H
BEGIN:VTIMEZONE
TZID:Europe/London
BEGIN:DAYLIGHT
TZOFFSETFROM:+0000
TZOFFSETTO:+0100
TZNAME:BST
DTSTART:20240331T010000
END:DAYLIGHT
BEGIN:STANDARD
TZOFFSETFROM:+0100
TZOFFSETTO:+0000
TZNAME:GMT
DTSTART:20241027T010000
END:STANDARD
BEGIN:DAYLIGHT
TZOFFSETFROM:+0000
TZOFFSETTO:+0100
TZNAME:BST
DTSTART:20250330T010000
END:DAYLIGHT
BEGIN:STANDARD
TZOFFSETFROM:+0100
TZOFFSETTO:+0000
TZNAME:GMT
DTSTART:20251026T010000
END:STANDARD
BEGIN:DAYLIGHT
TZOFFSETFROM:+0000
TZOFFSETTO:+0100
TZNAME:BST
DTSTART:20260329T010000
END:DAYLIGHT
BEGIN:STANDARD
TZOFFSETFROM:+0100
TZOFFSETTO:+0000
TZNAME:GMT
DTSTART:20261025T010000
END:STANDARD
END:VTIMEZONE
BEGIN:VEVENT
DTSTART;TZID=Europe/London:20250226T123000
DTEND;TZID=Europe/London:20250226T143000
DTSTAMP:20260422T011632
CREATED:20250113T143843Z
LAST-MODIFIED:20250113T143843Z
UID:48128-1740573000-1740580200@www.pinnerassociation.co.uk
SUMMARY:Coffee and Crafts- An Introduction To Art In Book Form
DESCRIPTION:Enter the intriguing world of artist’s books with this hands-on introduction to making your own mini-concertina book art. Artist’s books are works of art in the form of a book\, which can be a one-off handmade book or a printed edition. Here we will use a variety of collage and mixed media to create a number of pages in your own book where you can simply develop on an aesthetic theme or weave your own narratives or history/experience in. All materials will be supplied but please feel free to bring copies of your own images\, memorabilia or materials that you want to build in. \nTickets are £35\, and all materials are included. You’re welcome to bring copies of your own images\, memorabilia\, or materials to incorporate – just remember\, the pages are 10cm x 15cm. \nShare this:\n				Share on X (Opens in new window)\n				X\n			\n				Share on Facebook (Opens in new window)\n				Facebook\n			\n				Share on WhatsApp (Opens in new window)\n				WhatsApp\n			\n				Email a link to a friend (Opens in new window)\n				Email
URL:https://www.pinnerassociation.co.uk/event/coffee-and-crafts-an-introduction-to-art-in-book-form/
LOCATION:The Verden Event Rooms\, Upstairs at West House\, Pinner Memorial Park\, Pinner\, HA5 1AE\, United Kingdom
CATEGORIES:Charitable Causes,Craft
END:VEVENT
END:VCALENDAR