BEGIN:VCALENDAR
VERSION:2.0
PRODID:-//The Pinner Association - ECPv6.15.20//NONSGML v1.0//EN
CALSCALE:GREGORIAN
METHOD:PUBLISH
X-ORIGINAL-URL:https://www.pinnerassociation.co.uk
X-WR-CALDESC:Events for The Pinner Association
REFRESH-INTERVAL;VALUE=DURATION:PT1H
X-Robots-Tag:noindex
X-PUBLISHED-TTL:PT1H
BEGIN:VTIMEZONE
TZID:Europe/London
BEGIN:DAYLIGHT
TZOFFSETFROM:+0000
TZOFFSETTO:+0100
TZNAME:BST
DTSTART:20240331T010000
END:DAYLIGHT
BEGIN:STANDARD
TZOFFSETFROM:+0100
TZOFFSETTO:+0000
TZNAME:GMT
DTSTART:20241027T010000
END:STANDARD
BEGIN:DAYLIGHT
TZOFFSETFROM:+0000
TZOFFSETTO:+0100
TZNAME:BST
DTSTART:20250330T010000
END:DAYLIGHT
BEGIN:STANDARD
TZOFFSETFROM:+0100
TZOFFSETTO:+0000
TZNAME:GMT
DTSTART:20251026T010000
END:STANDARD
BEGIN:DAYLIGHT
TZOFFSETFROM:+0000
TZOFFSETTO:+0100
TZNAME:BST
DTSTART:20260329T010000
END:DAYLIGHT
BEGIN:STANDARD
TZOFFSETFROM:+0100
TZOFFSETTO:+0000
TZNAME:GMT
DTSTART:20261025T010000
END:STANDARD
END:VTIMEZONE
BEGIN:VEVENT
DTSTART;TZID=Europe/London:20250127T123000
DTEND;TZID=Europe/London:20250127T143000
DTSTAMP:20260422T061939
CREATED:20250113T143628Z
LAST-MODIFIED:20250113T143628Z
UID:48125-1737981000-1737988200@www.pinnerassociation.co.uk
SUMMARY:Coffee & Craft - Everyday Alchemy
DESCRIPTION:Step into the vibrant world of paper collage with guest artist Ketna Patel\, where you’ll bring art to life by layering and arranging materials in this dynamic\, hands-on workshop. \nDetail\nJoin us for Coffee & Craft on Monday\, January 27th 2025\, from 12:30 pm to 2:30 pm! \n  \nDive into the colourful world of paper collage in this engaging\, hands-on workshop! Create expressive art that comes alive through layering and arranging materials such as photographs\, printed tissue\, newspaper\, magazine cutouts\, and more. We invite you to experiment with selection and composition\, creating your own links and stories and transforming an everyday object with collage to create a unique and personalised artwork. Although all materials will be supplied\, please feel free to bring your own printed papers\, copies of photos\, embellishments such as buttons\, bindis etc and even a small 3D everyday object for you to use as your canvas (eg wooden spoon\, plates\, flower pots\, whatever you fancy). \n  \nLet’s turn the everyday into something extraordinary together! \nShare this:\n				Share on X (Opens in new window)\n				X\n			\n				Share on Facebook (Opens in new window)\n				Facebook\n			\n				Share on WhatsApp (Opens in new window)\n				WhatsApp\n			\n				Email a link to a friend (Opens in new window)\n				Email
URL:https://www.pinnerassociation.co.uk/event/coffee-craft-everyday-alchemy/
LOCATION:The Verden Event Rooms\, Upstairs at West House\, Pinner Memorial Park\, Pinner\, HA5 1AE\, United Kingdom
CATEGORIES:Charitable Causes,Craft
END:VEVENT
END:VCALENDAR