BEGIN:VCALENDAR
VERSION:2.0
PRODID:-//The Pinner Association - ECPv6.15.20//NONSGML v1.0//EN
CALSCALE:GREGORIAN
METHOD:PUBLISH
X-ORIGINAL-URL:https://www.pinnerassociation.co.uk
X-WR-CALDESC:Events for The Pinner Association
REFRESH-INTERVAL;VALUE=DURATION:PT1H
X-Robots-Tag:noindex
X-PUBLISHED-TTL:PT1H
BEGIN:VTIMEZONE
TZID:Europe/London
BEGIN:DAYLIGHT
TZOFFSETFROM:+0000
TZOFFSETTO:+0100
TZNAME:BST
DTSTART:20230326T010000
END:DAYLIGHT
BEGIN:STANDARD
TZOFFSETFROM:+0100
TZOFFSETTO:+0000
TZNAME:GMT
DTSTART:20231029T010000
END:STANDARD
BEGIN:DAYLIGHT
TZOFFSETFROM:+0000
TZOFFSETTO:+0100
TZNAME:BST
DTSTART:20240331T010000
END:DAYLIGHT
BEGIN:STANDARD
TZOFFSETFROM:+0100
TZOFFSETTO:+0000
TZNAME:GMT
DTSTART:20241027T010000
END:STANDARD
BEGIN:DAYLIGHT
TZOFFSETFROM:+0000
TZOFFSETTO:+0100
TZNAME:BST
DTSTART:20250330T010000
END:DAYLIGHT
BEGIN:STANDARD
TZOFFSETFROM:+0100
TZOFFSETTO:+0000
TZNAME:GMT
DTSTART:20251026T010000
END:STANDARD
END:VTIMEZONE
BEGIN:VEVENT
DTSTART;TZID=Europe/London:20241030T103000
DTEND;TZID=Europe/London:20241030T120000
DTSTAMP:20260422T121444
CREATED:20241008T174328Z
LAST-MODIFIED:20241008T174328Z
UID:47757-1730284200-1730289600@www.pinnerassociation.co.uk
SUMMARY:Family Come and Sing
DESCRIPTION:Share this:\n				Share on X (Opens in new window)\n				X\n			\n				Share on Facebook (Opens in new window)\n				Facebook\n			\n				Share on WhatsApp (Opens in new window)\n				WhatsApp\n			\n				Email a link to a friend (Opens in new window)\n				Email
URL:https://www.pinnerassociation.co.uk/event/family-come-and-sing/
LOCATION:Harrow Arts Centre\, 171 Uxbridge Road\, Hatch End\, Middlesex\, HA5 4EA\, United Kingdom
CATEGORIES:Family Friendly,Music
END:VEVENT
BEGIN:VEVENT
DTSTART;TZID=Europe/London:20241030T193000
DTEND;TZID=Europe/London:20241030T220000
DTSTAMP:20260422T121444
CREATED:20240919T081919Z
LAST-MODIFIED:20240919T081919Z
UID:47694-1730316600-1730325600@www.pinnerassociation.co.uk
SUMMARY:WOS Productions Present "The Wind in the Willows"
DESCRIPTION:Information and tickets can be found on our website: www.wos-productions.org.uk and the Facebook event is at\nhttps://facebook.com/events/s/the-wind-in-the-willows/1749872535579821/ \nShare this:\n				Share on X (Opens in new window)\n				X\n			\n				Share on Facebook (Opens in new window)\n				Facebook\n			\n				Share on WhatsApp (Opens in new window)\n				WhatsApp\n			\n				Email a link to a friend (Opens in new window)\n				Email
URL:https://www.pinnerassociation.co.uk/event/wos-productions-present-the-wind-in-the-willows-5/
LOCATION:Pinner Parish Church Hall\, Church Lane\,\, Pinner\, HA5 3AA\, United Kingdom
CATEGORIES:Theatre
END:VEVENT
END:VCALENDAR