BEGIN:VCALENDAR
VERSION:2.0
PRODID:-//The Pinner Association - ECPv6.15.20//NONSGML v1.0//EN
CALSCALE:GREGORIAN
METHOD:PUBLISH
X-ORIGINAL-URL:https://www.pinnerassociation.co.uk
X-WR-CALDESC:Events for The Pinner Association
REFRESH-INTERVAL;VALUE=DURATION:PT1H
X-Robots-Tag:noindex
X-PUBLISHED-TTL:PT1H
BEGIN:VTIMEZONE
TZID:Europe/London
BEGIN:DAYLIGHT
TZOFFSETFROM:+0000
TZOFFSETTO:+0100
TZNAME:BST
DTSTART:20230326T010000
END:DAYLIGHT
BEGIN:STANDARD
TZOFFSETFROM:+0100
TZOFFSETTO:+0000
TZNAME:GMT
DTSTART:20231029T010000
END:STANDARD
BEGIN:DAYLIGHT
TZOFFSETFROM:+0000
TZOFFSETTO:+0100
TZNAME:BST
DTSTART:20240331T010000
END:DAYLIGHT
BEGIN:STANDARD
TZOFFSETFROM:+0100
TZOFFSETTO:+0000
TZNAME:GMT
DTSTART:20241027T010000
END:STANDARD
BEGIN:DAYLIGHT
TZOFFSETFROM:+0000
TZOFFSETTO:+0100
TZNAME:BST
DTSTART:20250330T010000
END:DAYLIGHT
BEGIN:STANDARD
TZOFFSETFROM:+0100
TZOFFSETTO:+0000
TZNAME:GMT
DTSTART:20251026T010000
END:STANDARD
END:VTIMEZONE
BEGIN:VEVENT
DTSTART;TZID=Europe/London:20241003T110000
DTEND;TZID=Europe/London:20241003T160000
DTSTAMP:20260422T120908
CREATED:20240904T155125Z
LAST-MODIFIED:20240904T155125Z
UID:47546-1727953200-1727971200@www.pinnerassociation.co.uk
SUMMARY:The Art of Sidney H. Sime\, Master of Fantasy
DESCRIPTION:Sidney Sime was a painter\, illustrator and caricaturist. He was born in 1865 in Manchester to a poor family. He worked in the coal mines as a boy\, then for a linen draper and a baker\, before taking up sign writing and entering Liverpool school of art.\nHe moved to London to work for Pick-Me-Up and other magazines\, making both theatrical caricatures and sinisterly humorous drawings. His work\, although influenced by Aubrey Beardsley and Japanese prints\, was truly original. \nIn 1898 he inherited a house and money from his uncle\, an Edinburgh solicitor. He moved to Scotland to occupy his new property and to paint. However\, he soon felt isolated\, sold the house in Scotland and moved to Crown Cottage in Worplesdon\, Surrey. \nIn 1904 Sime first met Lord Dunsany\, who both enjoyed the company of this eccentric artist and greatly admired his work. They shared a fascination with imaginary worlds and fantastical tales. Dunsany chose Sime to illustrate his first book\, The Gods of Pegana\, a poetic fantasy\, and was delighted with the result. Their collaboration continued until the 1930s. \nIn 1909 he formed a friendship with Lord Howard de Walden who employed him to make set and costume designs for his theatrical productions. Another member of their circle was the composer Joseph Holbrooke\, for whose operas Sime also made designs. \nAfter the Great War Sime devoted much of his time to rendering his fantasies in large oil paintings\, a number of which are shown here. rhymes and stories. See watercolour\, ink\, and collage artworks in person – as well as early drafts\, sketches and ideas shown alongside text from Michael Rosen’s books. \nShare this:\n				Share on X (Opens in new window)\n				X\n			\n				Share on Facebook (Opens in new window)\n				Facebook\n			\n				Share on WhatsApp (Opens in new window)\n				WhatsApp\n			\n				Email a link to a friend (Opens in new window)\n				Email
URL:https://www.pinnerassociation.co.uk/event/the-art-of-sidney-h-sime-master-of-fantasy-55/
LOCATION:Heath Robinson Museum\, 50 West End Lane\, Pinner\, HA5 1AE\, United Kingdom
CATEGORIES:Culture,Exhibitions
END:VEVENT
BEGIN:VEVENT
DTSTART;TZID=Europe/London:20241003T200000
DTEND;TZID=Europe/London:20241003T220000
DTSTAMP:20260422T120908
CREATED:20240917T170005Z
LAST-MODIFIED:20240917T170005Z
UID:47685-1727985600-1727992800@www.pinnerassociation.co.uk
SUMMARY:Pinner Local History Society - William Heath Robinson; The Middlesex Years
DESCRIPTION:Speaker                                –  Peter Higginson \nThe next Pinner Local History Society Talk is ‘William Heath Robinson; The Middlesex Years’ by Peter Higginson at the Pinner Village Hall on Thursday 3rd October at 8pm. \nWilliam Heath Robinson spent some of his most formative years locally\, first in Hatch End and then in Pinner. It was a time that allowed him to spend a great deal of his time with his siblings\, especially his brothers Tom\, Charles and George. \nPeter is chairman of the William Heath Robinson trust and William’s great nephew. Peter’s talk will consider how these years played a significant role in the development of Will’s artistic development\, whether in his humorist or his illustration work. \nVisitors are welcome: suggested donation £3. \n \nShare this:\n				Share on X (Opens in new window)\n				X\n			\n				Share on Facebook (Opens in new window)\n				Facebook\n			\n				Share on WhatsApp (Opens in new window)\n				WhatsApp\n			\n				Email a link to a friend (Opens in new window)\n				Email
URL:https://www.pinnerassociation.co.uk/event/pinner-local-history-society-william-heath-robinson-the-middlesex-years/
LOCATION:Pinner Village Hall\, Chapel Lane\, Pinner\, Middlesex\, HA5 1AA\, United Kingdom
ORGANIZER;CN="Pinner Local History Society":MAILTO:enquiries@pinnerlhs.org.uk 
END:VEVENT
END:VCALENDAR