BEGIN:VCALENDAR
VERSION:2.0
PRODID:-//The Pinner Association - ECPv6.15.20//NONSGML v1.0//EN
CALSCALE:GREGORIAN
METHOD:PUBLISH
X-ORIGINAL-URL:https://www.pinnerassociation.co.uk
X-WR-CALDESC:Events for The Pinner Association
REFRESH-INTERVAL;VALUE=DURATION:PT1H
X-Robots-Tag:noindex
X-PUBLISHED-TTL:PT1H
BEGIN:VTIMEZONE
TZID:Europe/London
BEGIN:DAYLIGHT
TZOFFSETFROM:+0000
TZOFFSETTO:+0100
TZNAME:BST
DTSTART:20230326T010000
END:DAYLIGHT
BEGIN:STANDARD
TZOFFSETFROM:+0100
TZOFFSETTO:+0000
TZNAME:GMT
DTSTART:20231029T010000
END:STANDARD
BEGIN:DAYLIGHT
TZOFFSETFROM:+0000
TZOFFSETTO:+0100
TZNAME:BST
DTSTART:20240331T010000
END:DAYLIGHT
BEGIN:STANDARD
TZOFFSETFROM:+0100
TZOFFSETTO:+0000
TZNAME:GMT
DTSTART:20241027T010000
END:STANDARD
BEGIN:DAYLIGHT
TZOFFSETFROM:+0000
TZOFFSETTO:+0100
TZNAME:BST
DTSTART:20250330T010000
END:DAYLIGHT
BEGIN:STANDARD
TZOFFSETFROM:+0100
TZOFFSETTO:+0000
TZNAME:GMT
DTSTART:20251026T010000
END:STANDARD
END:VTIMEZONE
BEGIN:VEVENT
DTSTART;TZID=Europe/London:20240802T110000
DTEND;TZID=Europe/London:20240802T160000
DTSTAMP:20260422T162855
CREATED:20240617T184717Z
LAST-MODIFIED:20240617T184717Z
UID:46555-1722596400-1722614400@www.pinnerassociation.co.uk
SUMMARY:Michael Rosen: The Illustrators
DESCRIPTION:The Heath Robinson Museum is proud to present Michael Rosen: The Illustrators\, a new exhibition exploring Michael Rosen’s books and the many talented artists who have illustrated them throughout his 50 year career.\nFrom grizzly bears to grumpy teachers\, meet a whacky cast of characters and enter the wonderful world of Michael Rosen’s imagination. Featuring illustrators such as Quentin Blake\, Helen Oxenbury\, Chris Riddell\, and many more\, learn how artists interpret poems\, rhymes and stories. See watercolour\, ink\, and collage artworks in person – as well as early drafts\, sketches and ideas shown alongside text from Michael Rosen’s books. \nShare this:\n				Share on X (Opens in new window)\n				X\n			\n				Share on Facebook (Opens in new window)\n				Facebook\n			\n				Share on WhatsApp (Opens in new window)\n				WhatsApp\n			\n				Email a link to a friend (Opens in new window)\n				Email
URL:https://www.pinnerassociation.co.uk/event/__trashed-61__trashed-2/
LOCATION:Heath Robinson Museum\, 50 West End Lane\, Pinner\, HA5 1AE\, United Kingdom
CATEGORIES:Exhibitions,Family Friendly
END:VEVENT
END:VCALENDAR