BEGIN:VCALENDAR
VERSION:2.0
PRODID:-//The Pinner Association - ECPv6.15.20//NONSGML v1.0//EN
CALSCALE:GREGORIAN
METHOD:PUBLISH
X-ORIGINAL-URL:https://www.pinnerassociation.co.uk
X-WR-CALDESC:Events for The Pinner Association
REFRESH-INTERVAL;VALUE=DURATION:PT1H
X-Robots-Tag:noindex
X-PUBLISHED-TTL:PT1H
BEGIN:VTIMEZONE
TZID:Europe/London
BEGIN:DAYLIGHT
TZOFFSETFROM:+0000
TZOFFSETTO:+0100
TZNAME:BST
DTSTART:20230326T010000
END:DAYLIGHT
BEGIN:STANDARD
TZOFFSETFROM:+0100
TZOFFSETTO:+0000
TZNAME:GMT
DTSTART:20231029T010000
END:STANDARD
BEGIN:DAYLIGHT
TZOFFSETFROM:+0000
TZOFFSETTO:+0100
TZNAME:BST
DTSTART:20240331T010000
END:DAYLIGHT
BEGIN:STANDARD
TZOFFSETFROM:+0100
TZOFFSETTO:+0000
TZNAME:GMT
DTSTART:20241027T010000
END:STANDARD
BEGIN:DAYLIGHT
TZOFFSETFROM:+0000
TZOFFSETTO:+0100
TZNAME:BST
DTSTART:20250330T010000
END:DAYLIGHT
BEGIN:STANDARD
TZOFFSETFROM:+0100
TZOFFSETTO:+0000
TZNAME:GMT
DTSTART:20251026T010000
END:STANDARD
END:VTIMEZONE
BEGIN:VEVENT
DTSTART;TZID=Europe/London:20240509T110000
DTEND;TZID=Europe/London:20240509T160000
DTSTAMP:20260422T191027
CREATED:20240317T174127Z
LAST-MODIFIED:20240317T174127Z
UID:46189-1715252400-1715270400@www.pinnerassociation.co.uk
SUMMARY:Modernist Magazine Illustration
DESCRIPTION:With the start of the Second World War in 1914 Heath Robinson observed that “There was now no demand for purely artistic productions\, for new editions of Shakespeare or other classics”. He was then dependent on humorous work for his income. However\, from about 1925 respite from the constant need to be funny came from time to time with commissions to provide serious illustrations to short stories and articles in Nash’s Pall Mall Magazine and its sister publication Good Housekeeping.\nThe exhibition will include illustrations for stories by Richmal Crompton\, J. B. Priestly & Gerald Bullett and John van Druten\, an English playwright and theatre director. \nHe developed a distinctive style for these illustrations\, very different from his earlier drawings and adapted to the two-colour printing process used for magazines of the time. He also produced a number of full-colour designs for the covers of magazines.\nAnother artist who was best known for his humorous work\, but who also provided illustrations for Nash’s Pall Mall Magazine was Lesley Illingworth. The exhibition will include three examples for his work.\nAnother artist who was best known for his humorous work\, but who also provided illustrations for Nash’s Pall Mall Magazine was Lesley Illingworth. The exhibition will include three examples for his work.\n \nShare this:\n				Share on X (Opens in new window)\n				X\n			\n				Share on Facebook (Opens in new window)\n				Facebook\n			\n				Share on WhatsApp (Opens in new window)\n				WhatsApp\n			\n				Email a link to a friend (Opens in new window)\n				Email
URL:https://www.pinnerassociation.co.uk/event/modernist-magazine-illustration-18/
LOCATION:Heath Robinson Museum\, 50 West End Lane\, Pinner\, HA5 1AE\, United Kingdom
CATEGORIES:Culture,Exhibitions
END:VEVENT
BEGIN:VEVENT
DTSTART;TZID=Europe/London:20240509T200000
DTEND;TZID=Europe/London:20240509T220000
DTSTAMP:20260422T191027
CREATED:20240415T122326Z
LAST-MODIFIED:20240415T122326Z
UID:46326-1715284800-1715292000@www.pinnerassociation.co.uk
SUMMARY:Pinner Local History Society - Bletchley Park - People and Places
DESCRIPTION:Talk by Peter Marcham \n\nBletchley Park\, home of the WW2 Codebreakers\, was once Britain’s best kept secret. Peter’s talk will cover the extraordinary men and women whose achievements helped shorten WW2 by up to two years. Peter\, who has lived in Pinner for over 40 years\, is Chairman of The Radio Society of Harrow and a tour guide/steward and radio operator at Bletchley Park.\nVisitors are very welcome (suggested donation £3). \nShare this:\n				Share on X (Opens in new window)\n				X\n			\n				Share on Facebook (Opens in new window)\n				Facebook\n			\n				Share on WhatsApp (Opens in new window)\n				WhatsApp\n			\n				Email a link to a friend (Opens in new window)\n				Email
URL:https://www.pinnerassociation.co.uk/event/pinner-local-history-society-bletchley-park-people-and-places/
LOCATION:Pinner Village Hall\, Chapel Lane\, Pinner\, Middlesex\, HA5 1AA\, United Kingdom
CATEGORIES:Culture
ORGANIZER;CN="Pinner Local History Society":MAILTO:enquiries@pinnerlhs.org.uk 
END:VEVENT
END:VCALENDAR